BEGIN:VCALENDAR
VERSION:2.0
PRODID:-//patelkijabar.org - ECPv6.15.17.1//NONSGML v1.0//EN
CALSCALE:GREGORIAN
METHOD:PUBLISH
X-ORIGINAL-URL:https://patelkijabar.org
X-WR-CALDESC:Events for patelkijabar.org
REFRESH-INTERVAL;VALUE=DURATION:PT1H
X-Robots-Tag:noindex
X-PUBLISHED-TTL:PT1H
BEGIN:VTIMEZONE
TZID:UTC
BEGIN:STANDARD
TZOFFSETFROM:+0000
TZOFFSETTO:+0000
TZNAME:UTC
DTSTART:20230101T000000
END:STANDARD
END:VTIMEZONE
BEGIN:VEVENT
DTSTART;TZID=UTC:20240804T073000
DTEND;TZID=UTC:20240804T170000
DTSTAMP:20260421T142350
CREATED:20240724T102203Z
LAST-MODIFIED:20240724T102203Z
UID:6653-1722756600-1722790800@patelkijabar.org
SUMMARY:Peningkatan Kapasitas Tenaga ATLM Dalam Implementasi Biosafety & Biosecurity Di Laboratorium Kesehatan untuk Mendukung Penyelenggaraan Akreditasi Paripurna
DESCRIPTION:💢DPC PATELKI KAB PANGANDARAN PROUDLY PRESENT💢 \nAssalaamualaikum wr. wb\nSALAM PATELKI… \n🔬Seminar Hybrid & Musyawarah Cabang DPC PATELKI Kabupaten Pangandaran🔬\n✨Peningkatan Kapasitas Tenaga ATLM Dalam Implementasi Biosafety & Biosecurity Di Laboratorium Kesehatan untuk Mendukung Penyelenggaraan Akreditasi Paripurna✨ \nBersama\n– Surya Ridwanna\, Dip.Sc\, M.Si.\n– Undang Ruhimat\, S.KM.\, M.Kes.\n– Refangga Aditya\, A.Md.AK \n💸 IDR : 100.000 \n🔖Benefit :\n📜 E-Sertifikat 4 SKP Kemenkes\n🎉 Doorprize\n🍰Snack & Makan\n👥 Relasi \nYang akan dilaksanakan:\n🏥Aula RSUD Pandega Kabupaten Pangandaran\n🗓: Minggu\, 04 Augustus 2024\n🕖: 07:30 WIB – Selesai \n📚 Webinar Zoom \n📌Link Pendaftaran:\nhttps://bit.ly/4blZWCB \n📲Contact Person:\n– Rofi Husaeni : 0813 2497 3900 \nFollow and Like Our Media :\n📸Intagram : @patelki.pangandaran \nTerima kasih atas Support dan kerjasamanya serta komitmen pengabdian Profesi\, meningkatkan kompetensi dan menjadi bagian dari solusi
URL:https://patelkijabar.org/event/peningkatan-kapasitas-tenaga-atlm-dalam-implementasi-biosafety-biosecurity-di-laboratorium-kesehatan-untuk-mendukung-penyelenggaraan-akreditasi-paripurna/
LOCATION:RSUD PANDEGA PANGANDARAN\, Jl. Merdeka\, Pananjung\, Kec. Pangandaran\, Kab. Pangandaran\, Jawa Barat 46396\, KAB PANGANDARAN\, Jawa Barat\, 46396\, Indonesia
CATEGORIES:Event,Kegiatan DPC,Kegiatan Ilmiah DPC,Seminar DPC Pangandaran,Seminar DPC Pangandaran,Webinar DPC Pangandaran
END:VEVENT
BEGIN:VEVENT
DTSTART;TZID=UTC:20240825T080000
DTEND;TZID=UTC:20240825T170000
DTSTAMP:20260421T142350
CREATED:20240805T064926Z
LAST-MODIFIED:20240805T064926Z
UID:6665-1724572800-1724605200@patelkijabar.org
SUMMARY:Webinar Nasional Update Pemeriksaan D-Dimer Dalam Membantu Penegakan Diagnosa Trombosis
DESCRIPTION:‼ 🔊 ATTENTION PLEASE 🔊‼ \n✭༻━━━━━❈━━━━━༺✭\n𝐖𝐄𝐁𝐈𝐍𝐀𝐑 𝐍𝐀𝐒𝐈𝐎𝐍𝐀𝐋 𝟐𝟎𝟐𝟒\n✭༻━━━━━❈━━━━━༺✭ \nDengan Tema:\n✨ Update Pemeriksaan D-Dimer Dalam Membantu Penegakan Diagnosa Trombosis ✨ \nPemateri :\n1. dr. Een Hendarsih\, Sp.PD-KHOM\n2. Latifah Hikmawati\,S.Si\,S.Tr.Kes\n3. Shodri\, AMd.AK\n4. dr. Budiono Raharjo\, Sp.PK (K)\nModerator :\n1. Titis Nurherawati\, S.Si.S.Tr.Kes\n2. Dimas Prapanca\, S.Tr.Kes. \n🔖 BENEFITS:\n📜 E-Sertifikat SKP Kemenkes\n🎉 Doorprize\n👤 Relasi \nSave The Date:\n📆 : Minggu\, 25 Agustus 2024\n🕢 : 08.00 – Selesai\n📍 : Zoom Meeting\, Live streaming Youtube PATELKI DPC BOGOR \nHTM 💸 : Rp. 50.002\,-\nLink Registrasi :\nhttps://bit.ly/WEBINARD-DIMERDPCBOGOR \nContact Person : \nKURNIAWAN : 0852-1257-2524\nRizki : 0821-1156-6086\nFarida : 0857-7376-2845\nTRIN : 0851-0306-4985\n——————————————————\nFollow and Like Our Media:\n📷Instagram : @patelkidpc.bogor\n🎥YouTube : dpcpatelkikabbogor \nPATELKI – DPC BOGOR
URL:https://patelkijabar.org/event/webinar-nasional-update-pemeriksaan-d-dimer-dalam-membantu-penegakan-diagnosa-trombosis/
CATEGORIES:Event,Kegiatan DPC,Kegiatan DPC Bogor,Kegiatan Ilmiah DPC,Webinar DPC Bogor
END:VEVENT
END:VCALENDAR