BEGIN:VCALENDAR
VERSION:2.0
PRODID:-//patelkijabar.org - ECPv6.15.17.1//NONSGML v1.0//EN
CALSCALE:GREGORIAN
METHOD:PUBLISH
X-WR-CALNAME:patelkijabar.org
X-ORIGINAL-URL:https://patelkijabar.org
X-WR-CALDESC:Events for patelkijabar.org
REFRESH-INTERVAL;VALUE=DURATION:PT1H
X-Robots-Tag:noindex
X-PUBLISHED-TTL:PT1H
BEGIN:VTIMEZONE
TZID:UTC
BEGIN:STANDARD
TZOFFSETFROM:+0000
TZOFFSETTO:+0000
TZNAME:UTC
DTSTART:20230101T000000
END:STANDARD
END:VTIMEZONE
BEGIN:VEVENT
DTSTART;TZID=UTC:20240915T080000
DTEND;TZID=UTC:20240922T170000
DTSTAMP:20260421T130746
CREATED:20240805T125411Z
LAST-MODIFIED:20240805T125411Z
UID:6670-1726387200-1727024400@patelkijabar.org
SUMMARY:Pelatihan dan Uji Kompetensi Flebotomy
DESCRIPTION:📌 Save The Date: \n🗓Tanggal:\nTeori : 15 – 16 September 2024\nPraktek : 17 – 18 September 2024\nUji Komp : 22 September 2024\n🏨Lokasi : LORIN Sentul hotel \nDaftar di Link ini ya\, isi dengan lengkap setiap datanya.\nhttps://bit.ly/FlebotomiAngkatanVIII \nKalau ada yang kurang jelas silahkan tanya ke Kontak Person aja ya\nKurni : 0852-1257-2524\nRizki : 0821-1156-6086 \nSEE YAAAA..!! 😎🫰🏻✨ \nOfficial account :\nInstagram : @patelkidpc.bogor\nFacebook : Patelki DPC Kab.bogor\nYoutube : dpcpatelkikabbogor
URL:https://patelkijabar.org/event/pelatihan-dan-uji-kompetensi-flebotomy/
LOCATION:Lorin Sentul Hotel Bogor\, Kawasan Sirkuit Sentul Internasional Exit Toll Sirkuit Sentul\, Jl. Tol Jagorawi No.Km.32\, Sentul\, Kec. Babakan Madang\, Kabupaten Bogor\, Jawa Barat 16810\, bogor\, jawa barat\, 16810\, Indonesia
CATEGORIES:Event,Kegiatan DPC,Kegiatan DPC Bogor,Kegiatan Ilmiah DPC,Pelatihan DPC Bogor,Worksop DPC Bogor
END:VEVENT
BEGIN:VEVENT
DTSTART;TZID=UTC:20240929T080000
DTEND;TZID=UTC:20240929T170000
DTSTAMP:20260421T130746
CREATED:20250825T064556Z
LAST-MODIFIED:20250825T064556Z
UID:7724-1727596800-1727629200@patelkijabar.org
SUMMARY:Bakti Sosial Donasi Korban Gempa Pangalengan  Kabupaten Bandung
DESCRIPTION:Dengan adanya kejadian gempa\nbumi yang cukup kuat yang terjadi pada\ntanggal 18 September 2024 di wilayah\nkabupaten bandung\, wilayah kertasari\ndan pangalengan yang paling\nberdampak dengan bayak bangunan\nyang mengalami rusak parah sehingga\nbanyak orang kehilangan tempat tinggal\ndan kesulitan mengakses kebutuhan\ndasar.\nKegiatan ini diselenggarakan oleh\nDPC PATELKI Bandung dalam rangka\nbakti sosial dan santunan koban gempa\ndi wilayah Pangalengan kabupaten\nBandung. Kegiatan ini dengan cara\nmembuka donasi kepada seluruh\nanggota DPC PATELKI BANDUNG\nbandung dan sekitarnya untuk\nmembantu saudara kita yang terkena\ndampak gempa. Donasi yang\nterkumpulkan di belanjakan menjadi\nbahan kebutuhan pokok dan\ndisalurkan kepada korban gempa. \nKlik Untuk Melihat LAPORAN KEGIATAN
URL:https://patelkijabar.org/event/bakti-sosial-donasi-korban-gempa-pangalengan-kabupaten-bandung/
CATEGORIES:Event,Kegiatan DPC,Kegiatan DPC Bandung
END:VEVENT
END:VCALENDAR