BEGIN:VCALENDAR
VERSION:2.0
PRODID:-//patelkijabar.org - ECPv6.15.17.1//NONSGML v1.0//EN
CALSCALE:GREGORIAN
METHOD:PUBLISH
X-ORIGINAL-URL:https://patelkijabar.org
X-WR-CALDESC:Events for patelkijabar.org
REFRESH-INTERVAL;VALUE=DURATION:PT1H
X-Robots-Tag:noindex
X-PUBLISHED-TTL:PT1H
BEGIN:VTIMEZONE
TZID:UTC
BEGIN:STANDARD
TZOFFSETFROM:+0000
TZOFFSETTO:+0000
TZNAME:UTC
DTSTART:20240101T000000
END:STANDARD
END:VTIMEZONE
BEGIN:VEVENT
DTSTART;TZID=UTC:20250208T080000
DTEND;TZID=UTC:20250208T143000
DTSTAMP:20260421T060948
CREATED:20250203T131920Z
LAST-MODIFIED:20250203T131920Z
UID:7434-1739001600-1739025000@patelkijabar.org
SUMMARY:WEBINAR UPDATE PEMERIKSAAN HEPATITIS\, UPAYA MENDUKUNG PROGRAM PENCEGAHAN DAN PENGENDALIAN PENYAKIT PRIORITAS
DESCRIPTION:Salam NAKES !!!🔬🧪 \nWEBINAR KESEHATAN 5 SKP KEMENKES\nDPC PATELKI SUBANG bekerjasama dengan LPPP-LMU PATELKI \n“UPDATE PEMERIKSAAN HEPATITIS\, UPAYA MENDUKUNG PROGRAM PENCEGAHAN DAN PENGENDALIAN PENYAKIT PRIORITAS” \n*PELAKSANAAN WEBINAR :\n🗓 Sabtu\, 08 FEBRUARI 2025\n⏰ 08.00 – SELESAI\nPlatform : Zoom Webinar & Live YOUTUBE\n*Link LMS Plataran Sehat :https://lms.kemkes.go.id/courses/d1963c81-b9bb-4a9e-977f-e328c7484d00 \nTicket :\n✅ UMUM NAKES Rp. 50.000\,-\n☑ Mahasiswa Rp. 30.000\,- \n*Link Registrasi :\nMelalui VA https://bit.ly/webinardpcsubang\nMelalui Transfer rek dpc subang:\nhttps://bit.ly/registviatransfer \nNarahubung :\nKusmawati ☎ 087887802878\nRidwan. ☎ 082111733389\nKholifa ☎ 085624854948\nRidha ☎ 081214515861 \nMATERI & NARASUMBER :\nImplementasi & Kewaspadaan Hepatitis bagi Tenaga Teknologi Laboratoriun Medik dalam Pencegahan dan pengendalian Penyakit Prioritas.\nAtna Permana\, SKM\, M.Biomed\, PhD – Ketua Umum DPP PATELKI \nAspek Patologis dan Diagnostik Hepatitis; skrining dan monitoring penyakit\ndr. Florencia Idajanti\, Sp.PK – Dokter Patklin dan Ka.Instalasi Lab Patklin RSUD Kab. Subang\, MedLab Assessor. \nPre Analitik Pemeriksaan Hepatitis; Pengambilan dan Penanganan Sampel yang aman dan Berkualitas.\nLily Sholihah\, S.Pd. S.Si.\, M.Kes. – Direktur LP3 LMU PATELKI \nPemeriksaan Hepatitis; Metode\, prinsip dan Interpretasi Hasil Pemeriksaan\ndr. Tjan Sian Hwa\, MSc\, Sp.PK – President of IACC \nInternal Quality Control Pemeriksaan Hepatitis\nAlly Kafesa\, S.ST.\, M.Si – SEKJEND DPP PATELKI \nBurung pipit terbang tinggi\, Hinggap sebentar di kelapa\nTerimakasih sudah mendaftar\nSampai bertemu di webinar DPC Subang \nsampai bertemu di sesi webinar 08 Februari 2025
URL:https://patelkijabar.org/event/webinar-update-pemeriksaan-hepatitis-upaya-mendukung-program-pencegahan-dan-pengendalian-penyakit-prioritas/
CATEGORIES:Event,Kegiatan DPC,Kegiatan Ilmiah DPC,Kegiatan Ilmiah DPC Subang,Webinar DPC,Webinar DPC Kota Depok,Webinar DPC Subang
END:VEVENT
BEGIN:VEVENT
DTSTART;TZID=UTC:20250215T080000
DTEND;TZID=UTC:20250215T170000
DTSTAMP:20260421T060948
CREATED:20250214T231112Z
LAST-MODIFIED:20250214T231335Z
UID:7439-1739606400-1739638800@patelkijabar.org
SUMMARY:Musyawarah Cabang Luar Biasa PATELKI DPC Pangandaran
DESCRIPTION:
URL:https://patelkijabar.org/event/musyawarah-cabang-luar-biasa-patelki-dpc-pangandaran/
CATEGORIES:Event,Kegiatan DPC,Kegiatan DPC Pangandaran,Kegiatan Non Ilmiah DPC,Kegiatan Non Ilmiah DPC Pangandaran
END:VEVENT
END:VCALENDAR