BEGIN:VCALENDAR
VERSION:2.0
PRODID:-//patelkijabar.org - ECPv6.15.17.1//NONSGML v1.0//EN
CALSCALE:GREGORIAN
METHOD:PUBLISH
X-ORIGINAL-URL:https://patelkijabar.org
X-WR-CALDESC:Events for patelkijabar.org
REFRESH-INTERVAL;VALUE=DURATION:PT1H
X-Robots-Tag:noindex
X-PUBLISHED-TTL:PT1H
BEGIN:VTIMEZONE
TZID:UTC
BEGIN:STANDARD
TZOFFSETFROM:+0000
TZOFFSETTO:+0000
TZNAME:UTC
DTSTART:20230101T000000
END:STANDARD
END:VTIMEZONE
BEGIN:VEVENT
DTSTART;TZID=UTC:20241109T080000
DTEND;TZID=UTC:20241109T170000
DTSTAMP:20260422T014255
CREATED:20241130T234309Z
LAST-MODIFIED:20250825T064133Z
UID:6979-1731139200-1731171600@patelkijabar.org
SUMMARY:Webinar Pemeriksaan Laboratorium Infeksi Menular Seksual Gonore dan Syphilis
DESCRIPTION:SALAM PATELKI \n💉 WEBINAR 💉 \nPEMERIKSAAN LABORATORIUM INFEKSI MENULAR SEKSUAL GONORE DAN SYPHILIS \nDengan Bangga PATELKI BANDUNG akan menyelenggarakan WEBINAR yang Bekerjasama Dengan Diklat Rumah Sakit Paru Dr. H. A. Rotinsulu\nTerakreditasi A Kemenkes\nE-Sertifikat dan SKP KEMENKES RI \nWebinar di selenggarakan pada :\n🗓 Hari/tanggal : Sabtu\, 09 Nov 2024\n🕘 Pukul : 7.00 – 13.00\n📍 Zoom Meeting\n💵HTM : Rp. 50.000\,-\n🏧Bank Mandiri\n1320018531922\nAn.DPC PATELKI BANDUNG \nKonfirmasi Pendaftaran\nhttps://bit.ly/DPCBANDUNG2024 \nBenefit:\n•Materi\n•E-sertifikat 3 SKP Kemenkes \nCatatan:\n1. Memiliki akun plataran sehat\n2. Webinar tersertifikasi kemkes\, maka pastikan tidak sedang mengikuti pelatihan/webinar lainnya \nDaftarkan segera melalui link diatas!! Peserta terbatas!! \nIngin tau lebih lanjut\, segera hubungi\n1. Nina-087831079343\n2. Septamiga-085222958350 \nMusim kemarau berganti hujan\nJangan lupa membawa payung\nNopember ini kita berkenalan\nDi Webinar PATELKI Bandung \n  \nLAPORAN KEGIATAN
URL:https://patelkijabar.org/event/webinar-pemeriksaan-laboratorium-infeksi-menular-seksual-gonore-dan-syphilis/
CATEGORIES:Event,Kegiatan DPC,Kegiatan DPC Bandung,Kegiatan Ilmiah DPC,Kegiatan Ilmiah DPC Bandung,Webinar,Webinar DPC,Webinar DPC Bandung
END:VEVENT
BEGIN:VEVENT
DTSTART;TZID=UTC:20241113T080000
DTEND;TZID=UTC:20241113T170000
DTSTAMP:20260422T014255
CREATED:20250825T063333Z
LAST-MODIFIED:20250825T064024Z
UID:7714-1731484800-1731517200@patelkijabar.org
SUMMARY:Sosialisasi SIM K ke Mahasiswa/i STABA
DESCRIPTION:LAPORAN KEGIATAN
URL:https://patelkijabar.org/event/sosialisasi-sim-k-ke-mahasiswa-i-staba/
CATEGORIES:Event,Kegiatan DPC,Kegiatan DPC Bandung
END:VEVENT
BEGIN:VEVENT
DTSTART;TZID=UTC:20241207T080000
DTEND;TZID=UTC:20241207T170000
DTSTAMP:20260422T014255
CREATED:20241130T235118Z
LAST-MODIFIED:20250107T094448Z
UID:6982-1733558400-1733590800@patelkijabar.org
SUMMARY:World AIDS Day Webinar
DESCRIPTION:Dalam upaya mendukung penanggulangan HIV/AIDS dan memperingati Hari AIDS sedunia pada tanggal 1 Desember. \nPATELKI DPC KOTA DEPOK menyelenggarakan “WORLD AIDS DAY WEBINAR” \nPADA TANGGAL 07 Desember 2024 \n5 SKP KEMENKES \nSEGERA DAFTARKAN DIRI ANDA \nLink pendaftaran\nhttps://bit.ly/WORLDAIDSDAYWEBINAR \nKeuntungan :\n– E-Sertifikat SKP Kemenkes RI di Plataran Sehat\n– E-Materi\n– Pembelajaran ONLINE (Zoom\, YouTube dan Plataran Sehat)\n– Ilmu yang bermanfaat\n– Doorprize dan hadiah menarik selama acara \n*Peserta :\nSemua Tenaga Kesehatan\nRp. 50.003\,- Anggota di luar DPC PATELKI Depok\nGRATIS UNTUK ANGGOTA PATELKI DEPOK (syarat ketentuan berlaku) \nMandiri\nA/N DPC PATELKI\n1320019196592 \nContact Person:\nHARY : 081380558253\nSIGIT : 0895331288386\nANDRI : 085884903600 \n👇 TUTORIAL MENDAFTAR :\n– Buka Link Pendaftaran\n– isi Form Pendaftaran\n– Bayar\n– Masuk Grup\n– Menunggu verifikasi di LMS \nBuruan DAFTAR !!!!\nJANGAN SAMPAI Ketinggalan !!!! \nSYARAT PENDAFTARAN :\n– Peserta WAJIB memiliki akun Plataran Sehat\n– Mengisi Formulir pada Web Pendaftaran dengan lengkap dan benar\n– Menyelesaikan Proses Pembayaran yang tertera di Web\n– Masuk ke Grup WhatsApp Peserta \nCATATAN :\n– Peserta yang mendapatkan sertifikat “Hanya yang mengikuti seluruh kegiatan seminar dari awal hingga akhir”\n– Mengisi Kuis pada Akun Plataran Sehat masing-masing.\n– Sertifikat dapat di download mandiri pada Plataran Sehat https://lms.kemkes.go.id/\n– Pastikan sebelum meminta akses di pelataran sehat telah menyelesaikan pelatihan/seminar sebelumnya. \nTerima Kasih
URL:https://patelkijabar.org/event/world-aids-day-webinar/
CATEGORIES:Event,Kegiatan DPC,Kegiatan DPC Kota Depok,Kegiatan Ilmiah DPC,Kegiatan Ilmiah DPC Kota Depok,Webinar DPC Kota Depok
END:VEVENT
BEGIN:VEVENT
DTSTART;TZID=UTC:20250119T080000
DTEND;TZID=UTC:20250119T130000
DTSTAMP:20260422T014255
CREATED:20241201T000212Z
LAST-MODIFIED:20250107T094422Z
UID:6985-1737273600-1737291600@patelkijabar.org
SUMMARY:Webinar Intermittent Fasting
DESCRIPTION:📢 WEBINAR NASIONAL PATELKI DPC KOTA CIMAHI x LP3LMU \n“INTERMITTENT FASTING: PERSPEKTIF SPESIALIS GIZI DALAM MONITORING KESEHATAN BERDASARKAN HASIL ANALISA LABORATORIUM” \nHalo\, Sobat Sehat!\nPenasaran dengan manfaat Intermittent Fasting (IF) untuk kesehatan tubuh? Bingung cara memantau kondisi tubuh selama IF? Yuk\, ikuti webinar eksklusif ini dan dapatkan ilmu dari para ahli! \n‼ KHUSUS TENAGA KESEHATAN: DAPATKAN 5 SKP KEMENKES‼ \n📅 TANGGAL: Minggu\, 19 Januari 2025\n⏰ WAKTU: Mulai pukul 08.00 WIB hingga selesai\n📍 PLATFORM: Zoom Meeting & Live YouTube (dpcpatelkicimahi)\n💸 BIAYA WEBINAR: Rp35.000 \n🎤 NARASUMBER & MATERI: \n1️⃣ Dr. Gaga Irawan N\, dr.\, SpGK(K):\n“Intermittent Fasting: Perspektif Medis tentang Manfaat & Risiko”\n📙 Bahas manfaat IF untuk kesehatan secara menyeluruh dan risiko yang perlu diwaspadai. \n2️⃣ Olivia Gresya\, S.Gz:\n“Nutrisi dalam Intermittent Fasting: Strategi Makan untuk Hidup Sehat & Optimal”\n📙Kupas tuntas pola makan sehat yang mendukung keberhasilan IF. \n3️⃣ Dinie Astuti\, Amd.AK.\, SKM:\n“Analisis Pemeriksaan Laboratorium dalam Memantau Intermittent Fasting”\n📙Pelajari pentingnya pemeriksaan laboratorium dalam mendukung efektivitas IF. \n4️⃣ Yogi Khoirul Abror\, S.Tr.AK.\, M.Imun:\n“Pengaruh Antigen & Antibodi dalam Tubuh Selama Menjalani Intermittent Fasting”\n📙 Pahami apa yang terjadi pada sistem imun saat menjalani IF. \n🎯 SIAPA SAJA YANG HARUS IKUT? \nWebinar ini terbuka untuk semua yang peduli kesehatan\, khususnya: \nTenaga Kesehatan: TTLM/ATLM\, Gizi\, Dokter Umum\, Tenaga Kesehatan Lainnya \nMahasiswa Kesehatan: Tingkatkan wawasan & pengalamanmu untuk karier di masa depan. \nMasyarakat Umum: Siapa saja yang ingin tahu manfaat dan risiko IF dengan panduan profesional. \n✨ BENEFIT WEBINAR INI: \n✔ Materi komprehensif dari para ahli.\n✔ Diskusi interaktif untuk menjawab semua pertanyaan Anda.\n✔ E-certificate untuk semua peserta.\n✔ 5 SKP KEMENKES khusus tenaga kesehatan yang memenuhi syarat.\n✔ Doorprize keren:\n🎯 2 unit Huawei WatchFit SE with GPS\n🎯 E-money total jutaan rupiah \n📌 CARA PENDAFTARAN: \n1️⃣ Transfer Rp35.000 ke rekening BNI 2222111499 a.n. DPC PATELKI Cimahi Persatuan.\n2️⃣ Isi formulir pendaftaran di: https://bit.ly/daftarwebinarIF.\n(Wajib mengunggah bukti transfer!) \nLink lms : https://lms.kemkes.go.id/courses/acbaece6-c099-4c1c-a885-46ef33b6ed87 \n⚠ PERSYARATAN KHUSUS: \nTenaga Kesehatan: Wajib memiliki akun Plataran Sehat untuk mengklaim SKP. \nPeserta Umum: Cukup registrasi & konfirmasi pembayaran. \n📞 INFO LEBIH LANJUT: \nHubungi narahubung kami: \nAji: 085624537266 \nPuji: 089605597784 \nTerfie: 081931331573 \nJangan lewatkan acara luar biasa ini! Segera daftar dan jadilah bagian dari komunitas yang peduli kesehatan. 💡 Yuk\, tingkatkan wawasan kesehatan dengan Intermittent Fasting!
URL:https://patelkijabar.org/event/webinar-intermittent-fasting/
CATEGORIES:Event,Kegiatan DPC,Kegiatan DPC Kota Cimahi,Kegiatan Ilmiah DPC,Kegiatan Ilmiah DPC Kota Cimahi,Webinar DPC Kota Cimahi
END:VEVENT
BEGIN:VEVENT
DTSTART;TZID=UTC:20250208T080000
DTEND;TZID=UTC:20250208T143000
DTSTAMP:20260422T014255
CREATED:20250203T131920Z
LAST-MODIFIED:20250203T131920Z
UID:7434-1739001600-1739025000@patelkijabar.org
SUMMARY:WEBINAR UPDATE PEMERIKSAAN HEPATITIS\, UPAYA MENDUKUNG PROGRAM PENCEGAHAN DAN PENGENDALIAN PENYAKIT PRIORITAS
DESCRIPTION:Salam NAKES !!!🔬🧪 \nWEBINAR KESEHATAN 5 SKP KEMENKES\nDPC PATELKI SUBANG bekerjasama dengan LPPP-LMU PATELKI \n“UPDATE PEMERIKSAAN HEPATITIS\, UPAYA MENDUKUNG PROGRAM PENCEGAHAN DAN PENGENDALIAN PENYAKIT PRIORITAS” \n*PELAKSANAAN WEBINAR :\n🗓 Sabtu\, 08 FEBRUARI 2025\n⏰ 08.00 – SELESAI\nPlatform : Zoom Webinar & Live YOUTUBE\n*Link LMS Plataran Sehat :https://lms.kemkes.go.id/courses/d1963c81-b9bb-4a9e-977f-e328c7484d00 \nTicket :\n✅ UMUM NAKES Rp. 50.000\,-\n☑ Mahasiswa Rp. 30.000\,- \n*Link Registrasi :\nMelalui VA https://bit.ly/webinardpcsubang\nMelalui Transfer rek dpc subang:\nhttps://bit.ly/registviatransfer \nNarahubung :\nKusmawati ☎ 087887802878\nRidwan. ☎ 082111733389\nKholifa ☎ 085624854948\nRidha ☎ 081214515861 \nMATERI & NARASUMBER :\nImplementasi & Kewaspadaan Hepatitis bagi Tenaga Teknologi Laboratoriun Medik dalam Pencegahan dan pengendalian Penyakit Prioritas.\nAtna Permana\, SKM\, M.Biomed\, PhD – Ketua Umum DPP PATELKI \nAspek Patologis dan Diagnostik Hepatitis; skrining dan monitoring penyakit\ndr. Florencia Idajanti\, Sp.PK – Dokter Patklin dan Ka.Instalasi Lab Patklin RSUD Kab. Subang\, MedLab Assessor. \nPre Analitik Pemeriksaan Hepatitis; Pengambilan dan Penanganan Sampel yang aman dan Berkualitas.\nLily Sholihah\, S.Pd. S.Si.\, M.Kes. – Direktur LP3 LMU PATELKI \nPemeriksaan Hepatitis; Metode\, prinsip dan Interpretasi Hasil Pemeriksaan\ndr. Tjan Sian Hwa\, MSc\, Sp.PK – President of IACC \nInternal Quality Control Pemeriksaan Hepatitis\nAlly Kafesa\, S.ST.\, M.Si – SEKJEND DPP PATELKI \nBurung pipit terbang tinggi\, Hinggap sebentar di kelapa\nTerimakasih sudah mendaftar\nSampai bertemu di webinar DPC Subang \nsampai bertemu di sesi webinar 08 Februari 2025
URL:https://patelkijabar.org/event/webinar-update-pemeriksaan-hepatitis-upaya-mendukung-program-pencegahan-dan-pengendalian-penyakit-prioritas/
CATEGORIES:Event,Kegiatan DPC,Kegiatan Ilmiah DPC,Kegiatan Ilmiah DPC Subang,Webinar DPC,Webinar DPC Kota Depok,Webinar DPC Subang
END:VEVENT
BEGIN:VEVENT
DTSTART;TZID=UTC:20250215T080000
DTEND;TZID=UTC:20250215T170000
DTSTAMP:20260422T014255
CREATED:20250214T231112Z
LAST-MODIFIED:20250214T231335Z
UID:7439-1739606400-1739638800@patelkijabar.org
SUMMARY:Musyawarah Cabang Luar Biasa PATELKI DPC Pangandaran
DESCRIPTION:
URL:https://patelkijabar.org/event/musyawarah-cabang-luar-biasa-patelki-dpc-pangandaran/
CATEGORIES:Event,Kegiatan DPC,Kegiatan DPC Pangandaran,Kegiatan Non Ilmiah DPC,Kegiatan Non Ilmiah DPC Pangandaran
END:VEVENT
BEGIN:VEVENT
DTSTART;TZID=UTC:20250323T080000
DTEND;TZID=UTC:20250323T170000
DTSTAMP:20260422T014255
CREATED:20250825T064351Z
LAST-MODIFIED:20250825T064657Z
UID:7722-1742716800-1742749200@patelkijabar.org
SUMMARY:Bakti Sosial “PATELKI Berbagi di Bulan Suci dan edukasi kesehatan Gizi seimbang dengan isi piringku”
DESCRIPTION:Salam PATELKI\nSehubungan dengan akan diadakannya kegiatan Bakti Sosial Santunan Anak\nYatim di DPC PATELKI Bandung\, dengan tema “PATELKI Berbagi di Bulan\nSuci dan edukasi kesehatan Gizi seimbang dengan isi piringku” dengan\nini kami memberitahukan kegiatan ini akan dilaksanakan pada: \nHari/ Tanggal : Minggu / 23 Maret 2025\nWaktu : 15.00 – 18.00 WIB\nTempat : Panti Asuhan Anak Yatim & Dhuafa Assalam\nJl. Sangkali RT 04 RW 05 Desa Bojong\nKec Majalaya Kab. Bandung \nDemikian surat pemberitahuan ini kami sampaikan. Besar harapan kami\nkegiatan Bakti Sosial Santunan Anak Yatim ini dapat berjalan dengan baik.\nAtas perhatian dan kerjasamanya\, kami ucapkan terima kasih. \nKlik untuk melihat LAPORAN KEGIATAN
URL:https://patelkijabar.org/event/bakti-sosial-patelki-berbagi-di-bulan-suci-dan-edukasi-kesehatan-gizi-seimbang-dengan-isi-piringku/
CATEGORIES:Event,Kegiatan DPC,Kegiatan DPC Bandung
END:VEVENT
BEGIN:VEVENT
DTSTART;TZID=UTC:20260215T080000
DTEND;TZID=UTC:20260215T143000
DTSTAMP:20260422T014255
CREATED:20260202T130648Z
LAST-MODIFIED:20260202T130648Z
UID:7843-1771142400-1771165800@patelkijabar.org
SUMMARY:Seminar Hybrid Penguatan Skrining Diabetes Melitus di Indonesia: Integrasi Kebijakan\, Pra-Analitik dan Quality Assurance pada Pemeriksaan HbA1c dan Glukosa
DESCRIPTION:SALAM PATELKI !!!📢 \n🧪DPC PATELKI KOTA BEKASI bersama dengan LPPP-Laboratorium Medik Utama (Terakreditasi B Kemenkes HK.02.02/F/2687/2023)\nakan menyelenggarakan : \n🧬Seminar Ilmiah Hybrid🧬\n”Penguatan Skrining Diabetes Melitus di Indonesia: Integrasi Kebijakan\, Pra-Analitik dan Quality Assurance pada Pemeriksaan HbA1c dan Glukosa” \n🗓️ Minggu\, 15 Februari 2026\n⏰ 08:00 – Selesai\n🏨 Offline : Hotel Santika Mega City Bekasi\n📍 Online : Live via Zoom Meeting dan YouTube PATELKI Kota Bekasi \n💡Seminar ini hadir untuk meningkatkan efektivitas skrining Diabetes Melitus\, serta Menekankan pentingnya kualitas pemeriksaan HbA1c & glukosa. \n💸 Investasi Kompetensi:\nOffline : Rp. 150.000\nOnline : Rp. 50.000 \n🏦 Transfer ke:\nBank MANDIRI\nNo. Rekening: 13200 1853 1880\na.n. DPC PATELKI KOTA BEKASI \n👥 Kuota Terbatas\n👥 Target Peserta\n✅Dokter\n✅Dokter Spesialis Patologi Klinik\n✅Tenaga Teknologi Laboratorium Medik\n✅Tenaga Teknologi Laboratorium Medik Level 5\n✅Tenaga Teknologi Laboratorium Medik Level 6 \nBenefit yang Akan Anda Dapatkan:\n📚 Materi Lengkap & Bisa Diunduh\n📜 E-Sertifikat SKP Kemenkes RI di Plataran Sehat\n🧠 Wawasan Praktis Langsung dari Para Pakar \n🎙️ Narasumber :\n👩‍⚕️ dr. Vevie Herawati\, MKM\n📌 ”Kebijakan Pemerintah dalam Penguatan Skrining; Pemeriksaan Gula Darah & HbA1c: Pada kasus Diabetes Melitus di Indonesia”\n🧑‍🔬 Atna Permana\, SKM\, M.Biomed\, Phd\n📌“Integrasi Manajemen Mutu: Quality Assurance pada Pemeriksaan Glukosa & HbA1c Menuju Hasil Laboratorium yang Reliabel”\n👩‍⚕️ dr. Gaby Octavia Manz\, Sp.PK\n📌 “HbA1c sebagai Standar Emas dalam Evaluasi Kontrol Glikemik: Konsep\, Metode dan Interpretasi”\n👩‍🔬Lily Solihah\, S.Pd\, S.Si\, M.Si\n📌 “Optimasi Tahap Pra-Analitik pada Pemeriksaan Glukosa dan HbA1c untuk Menjamin Akurasi Diagnosis Diabetes”\n👩‍🔬 Hessy Rohandayani\, S.Tr.Kes\n📌”Faktor-faktor Kritis pada Tahap Analitik Pemeriksaan Gula Darah dan HbA1c” \n🎙️ Moderator :\nSinta Purnamasari\, Amd.Kes \n📲 Link Pendaftaran:\nIsi Formulir Pendaftaran Webinar (WAJIB):\n🔗 https://forms.gle/cYwgHTvG6oxJU73D7 \n📞 Informasi & Bantuan\n📱 Offline : +62 852-1751-0016 (Nurita)\n📱 Online : +62 895-0700-6264 (Mey) \n🚀 JANGAN LEWATKAN!\nTingkatkan kapasitas profesional Anda 💪\, perluas jejaring 🤝\, dan kuasai update terkini dalam penjaminan mutu laboratorium bersama narasumber ahli! \n#spiritofchange #semangatbarupatelkimaju ✨
URL:https://patelkijabar.org/event/seminar-hybrid-penguatan-skrining-diabetes-melitus-di-indonesia-integrasi-kebijakan-pra-analitik-dan-quality-assurance-pada-pemeriksaan-hba1c-dan-glukosa/
LOCATION:Hotel Santika Mega City Bekasi\, Mega Bekasi Hypermall\, Lantai 5 Rooftop\, Jl. Jenderal Ahmad Yani No.1\, Marga Jaya\, Kec. Bekasi Selatan\, Kota Bekasi\, Jawa Barat 17141\, kota bekasi\, Jawa Barat\, Indonesia
CATEGORIES:Event,Kegiatan DPC,Kegiatan DPC Kota Bekasi,Kegiatan Ilmiah DPC,Seminar DPC Kota Bekasi,Webinar DPC,Webinar DPC Kota Bekasi
ATTACH;FMTTYPE=image/webp:/wp-content/uploads/2026/02/WhatsApp-Image-2026-02-01-at-4.49.51-PM.webp
END:VEVENT
BEGIN:VEVENT
DTSTART;TZID=UTC:20260306T180000
DTEND;TZID=UTC:20260306T190000
DTSTAMP:20260422T014255
CREATED:20260222T110142Z
LAST-MODIFIED:20260222T110142Z
UID:7853-1772820000-1772823600@patelkijabar.org
SUMMARY:Pengabdian Masyarakat DPC PATELKI Kota Tasikmalaya
DESCRIPTION:Hallo ATLM Kota Tasik\, yukk ramaikan Ramadhan tahun ini dengan berpartisipasi mengikuti acara Pengabdian Masyarakat ✨ \nCek Kesehatan 👨🏻‍⚕️Pemeriksaan Lab 👩‍🔬 Santunan 💰 dan Buka Bersama 🍱 \n👉🏻 Link Pendaftaran 👈🏻\nhttps://bit.ly/FormPendaftaranBakSos6Maret2026 \n💸 Donasi 125K\n💳 1986040262\nBNI DPC PATELKI Kota Tasikmalaya\n☎️ Cp. 085223022127 (Ika-Bendahara) \n🗓️ Jum’at\, 6 Maret 2026\n⏰ 14.00 s.d selesai\n📍 Ceffe dan Resto 77 Tasik\nhttps://share.google/CHQDw6pc2EkMrLiZl (lokasi) \nSemoga dpartisipasi rekan² menjadi pahala dan Allah tambah rizki dgn berlipat ganda 🫶🏻
URL:https://patelkijabar.org/event/pengabdian-masyarakat-dpc-patelki-kota-tasikmalaya/
LOCATION:Cafe & Resto 77 Tasikmalaya
CATEGORIES:Event,Kegiatan DPC,Kegiatan Non Ilmiah DPC,Kegiatan Non Ilmiah DPC PATELKI Kota Tasikmalaya
ATTACH;FMTTYPE=image/webp:/wp-content/uploads/2026/02/WhatsApp-Image-2026-02-22-at-5.55.02-PM.webp
END:VEVENT
END:VCALENDAR