BEGIN:VCALENDAR
VERSION:2.0
PRODID:-//patelkijabar.org - ECPv6.15.17.1//NONSGML v1.0//EN
CALSCALE:GREGORIAN
METHOD:PUBLISH
X-WR-CALNAME:patelkijabar.org
X-ORIGINAL-URL:https://patelkijabar.org
X-WR-CALDESC:Events for patelkijabar.org
REFRESH-INTERVAL;VALUE=DURATION:PT1H
X-Robots-Tag:noindex
X-PUBLISHED-TTL:PT1H
BEGIN:VTIMEZONE
TZID:UTC
BEGIN:STANDARD
TZOFFSETFROM:+0000
TZOFFSETTO:+0000
TZNAME:UTC
DTSTART:20210101T000000
END:STANDARD
END:VTIMEZONE
BEGIN:VTIMEZONE
TZID:Asia/Jakarta
BEGIN:STANDARD
TZOFFSETFROM:+0700
TZOFFSETTO:+0700
TZNAME:WIB
DTSTART:20220101T000000
END:STANDARD
END:VTIMEZONE
BEGIN:VTIMEZONE
TZID:Asia/Bangkok
BEGIN:STANDARD
TZOFFSETFROM:+0700
TZOFFSETTO:+0700
TZNAME:+07
DTSTART:20220101T000000
END:STANDARD
END:VTIMEZONE
BEGIN:VEVENT
DTSTART;TZID=UTC:20230510T080000
DTEND;TZID=UTC:20230528T170000
DTSTAMP:20260420T183218
CREATED:20230510T015833Z
LAST-MODIFIED:20230615T141252Z
UID:4118-1683705600-1685293200@patelkijabar.org
SUMMARY:“BAKSOS PEDULI KANKER SERVIKS” DPC PATELKI Kota Bandung
DESCRIPTION:Hallo Sobat ATLM 🙋🏻🙋🏻‍♀️\n..\nSalam Patelki !\n..\nDalam rangka Pekan ATLM 2023\, DPC Patelki Kota Bandung Mengadakan “BAKSOS PEDULI KANKER SERVIKS”\n..\nAyo Berdonasi Pada Kegiatan Kali Ini minimal Rp. 50.000 dengan transfer ke rekening mandiri 132-00-1900056-2 a.n dpc patelki kota bandung 🙌\n..\n📌Waktu Pelaksannya\, Hari Minggu 28 Mei 2023 di Kel. Pasir Wangi Kec. Ujungberung Kota Bandung.\n..\n..\n☎️ Informasi selanjutnya bisa menghubungi AI (085926262860) & Ni Made (081220819593) #WhatsAppOnly\n..\nSee You There 👋\n..\n#dpcpatelkikotabandung #humasdpcpatelkikotabandung #baksosatlm #pedulikankerserviks
URL:https://patelkijabar.org/event/baksos-peduli-kanker-serviks-dpc-patelki-kota-bandung/
LOCATION:Kel. Pasir Wangi Kec. Ujungberung Kota Bandung
CATEGORIES:Event,Kegiatan DPC Kota Bandung,Kegiatan Non Ilmiah DPC,Kegiatan Non Ilmiah DPC PATELKI Kota Bandung
END:VEVENT
BEGIN:VEVENT
DTSTART;TZID=UTC:20230507T080000
DTEND;TZID=UTC:20230507T180000
DTSTAMP:20260420T183218
CREATED:20230228T022100Z
LAST-MODIFIED:20230713T090417Z
UID:1569-1683446400-1683482400@patelkijabar.org
SUMMARY:Workshop SIMK
DESCRIPTION:Materi Workshop : \n\nKnow and Love Your SIMK account\nResertifikasi ATLM dan P2KB\nSosialisasi Program Kerja (P2KB\, Kredensialing\, dan Sertifikat)\n\nWaktu Pelaksanaan : \nHari                  : Minggu \nTanggal            : 7 Mei 2023 \nWaktu               : Pukul 08.00 – 18.00 WIB \nTempat             : Topas Galeria Hotel Bandung \nJl. Dr. Djunjunan No. 153\, Kota Bandung \n  \nContact Person: \nContact Person 1 \nContact Person 2 \nLink Sertifikat : https://drive.google.com/drive/folders/1e3-V1Pu9IArH0g9lPVewumdigMzOPvxX?usp=sharing \nLink Materi : https://drive.google.com/drive/folders/1thwagOn8vUdDzSUiWIwsF4FskqMLxc7U?usp=sharing
URL:https://patelkijabar.org/event/workshop-simk/
LOCATION:Topas Galeria Hotel bandung\, Jl. Dr. Djunjunan No.153\, Pajajaran\, Kec. Cicendo\, Kota Bandung\, Jawa Barat 40173\, Bandung\, Jawa Barat\, 40173\, Indonesia
CATEGORIES:Event,Kegiatan DPW,Kegiatan DPW PATELKI Jawa Barat,Kegiatan Ilmiah DPW,Workshop DPW Jawa Barat,Workshop DPW Jawa Barat
END:VEVENT
BEGIN:VEVENT
DTSTART;TZID=UTC:20230506T090000
DTEND;TZID=UTC:20230506T130000
DTSTAMP:20260420T183218
CREATED:20230415T033819Z
LAST-MODIFIED:20230615T141714Z
UID:3796-1683363600-1683378000@patelkijabar.org
SUMMARY:Bakti Sosial Pekan TLM 37 DPC PATELKI Bandung Barat
DESCRIPTION:SALAM PATELKI\, \nDalam rangka HUT ke-37 PATELKI dan memeriahkan Kegiatan Pekan Teknologi Laboratorium Medik (Pekan TLM)\, DPC PATELKI Bandung Barat mengadakan Bakti Sosial dan Pengabdian Masyarakat \nKegiatan bakti sosial akan diadakan pada:\nHari\, tanggal : Sabtu\, 06 Mei 2023\nJam : 09.00 – selesai\nLokasi : SD Negeri Girimukti\, Kp.Ciparang\, Ds.Cipatat\, Kec.Cipatat\nKegiatan :\n1. Pemeriksaan Golongan Darah\n2. Melatih Kebiasaan Hidup Sehat (PHBS)\n3. Pemberian Makanan Sehat (PMT) \n  \nPartisipasi dalam kegiatan ini akan mendapatkan sertifikat 1 SKP PATELKI\, khusus anggota PATELKI wilayah Jawa Barat\, dengan donasi minimal Rp. 50.000\,-\nJumlah uang yang ditransfer dengan ketentuan nominal diakhiri dengan angka unik 1\nContoh: Rp.50.001\, untuk mempermudah pengecekan \nPembayaran bisa melalui\,\nNomor Rekening Bank Mandiri: 1320018531831 a.n. DPC PATELKI \nInformasi lebih lanjut dapat menghubungi CP: 0813-1131-1981 (Rudi) \nJangan lupa untuk ikut serta
URL:https://patelkijabar.org/event/bakti-sosial-pekan-tlm-37-dpc-patelki-bandung-barat/
LOCATION:SD Negeri Girimukti\, Kp.Ciparang\, Ds.Cipatat\, Kec.Cipatat\, Kp. Ciparang Rt.02 Rw.07\,Kec. Cipatat\,Kab. Bandung Barat\, Bandung Barat\, jawa barat\, 40754\, Indonesia
CATEGORIES:Event,Kegiatan DPC,Kegiatan DPC Bandung Barat,Kegiatan Non Ilmiah DPC,Kegiatan Non Ilmiah DPC PATELKI Bandung Barat
END:VEVENT
BEGIN:VEVENT
DTSTART;TZID=UTC:20230504T150000
DTEND;TZID=UTC:20230504T180000
DTSTAMP:20260420T183218
CREATED:20230407T062941Z
LAST-MODIFIED:20230615T141821Z
UID:3787-1683212400-1683223200@patelkijabar.org
SUMMARY:Gebyar Pekan TLM DPC PATELKI Majalengka
DESCRIPTION:[Gebyar Pekan TLM]\nDalam rangka “Pekan TLM ke 37”\nDPC PATELKI Majalengka\nMengadakan berbagai kegiatan : \n●PATELKI Nganjang Ka Sakola.\nSosialisasi peran ATLM dalam dunia Kesehatan\,gratis pemeriksaan golongan darah & gula darah \nKegiatan tersebut yang akan dilaksanakan : \nPATELKI nganjang ka Sakola\n🗓️ Kamis\, 04 Mei 2023\n🏫 SMA N 1 Jatiwangi\nJalan Raya Timur No.02\, Loji\, Kec. Jatiwangi\, Kabupaten Majalengka\, \nUntuk Itu Kami Mengajak Rekan-rekan PATELKI dan Masyarakat Umum untuk ikut serta dalam acara tersebut dengan menyisihkan sebagian hartanya di Bulan yang Suci Ini.\nDonasi dapat dilakukan dengan mentransfer ke: \n💳 Rek. Mandiri 1340017517516 a.n. DPC PATELKI MAJALENGKA\nBatas Akhir donasi: 13 April 2023 \nContact Person\n📞 Erviena N/082319906147\n📞Yogie Jatiprawira/\n081532135336 \nDemikian kami sampaikan\, semoga rezeki yang rekan-rekan titipkan kepada kami tergantikan dengan rezeki yang lebih berkah dan berlimpah.\nAamiin3x Ya Rabbal Alamin. \nMarhaban Ya Ramadhan 1444 H \nRegards\n*DPC PATELKI MAJALENGKA\nSALAM PATELKI
URL:https://patelkijabar.org/event/gebyar-pekan-tlm-dpc-patelki-majalengka/
LOCATION:SMA N 1 Jatiwangi\, Jalan Raya Timur No.02\, Loji\, Kec. Jatiwangi\, Kabupaten Majalengka\, Majalengka\, jawa barat\, Indonesia
CATEGORIES:Event,Kegiatan DPC,Kegiatan DPC Majalengka,Kegiatan Non Ilmiah DPC,Kegiatan Non Ilmiah DPC PATELKI Majalengka
END:VEVENT
BEGIN:VEVENT
DTSTART;TZID=UTC:20230416T080000
DTEND;TZID=UTC:20230416T130000
DTSTAMP:20260420T183218
CREATED:20230329T152041Z
LAST-MODIFIED:20230713T090144Z
UID:3129-1681632000-1681650000@patelkijabar.org
SUMMARY:Webinar Peran ATLM Bergerak dan Bersinergi Mewujudkan Transformasi Kesehatan Pada Tatalaksana dan Dioagnosis Penyakit Difteri
DESCRIPTION:Assalamualaikum Teman Teman ATLM Se-Indonesia 🖐🏻🖐🏻\nDalam Rangka Pekan TLM 2023 Kami PATELKI DPC Garut\, Mempersembahkan : \nWebinar Difteri\nOpen Registration :\n28 Maret – 13 April 2023 \nMau Lebih Tau Seputar Pemeriksaan Difteri?\nMulai Dari Proses Pre-analitik\, Sampai Post Analitik nya\nYu Join Together webinar DPC PATELKI Garut \nSAVE THE DATE\n📆: Minggu\, 16 April 2023\n🕒: 10:00 WIB\n📍: Zoom Webinar \nPeserta akan mendapatkan 2 SKP PATELKI🎖️ \n💴 30k untuk Mahasiswa\n💵 50k untuk ATLM\n💳 1320021901351\nMandiri a/n DPC Patelki Garut \nCP. Novitha/085315168028 \nBerbagi Berkarya dan Menambah Ilmu di Bulan suci Ramadhan yang Penuh Berkah🤍🤍🤍 \nSemangat Berapi Api 🔥🔥🔥\, DPC PATELKI Garut \nSee you On there ! 🤍🤍🤍\nInfo lengkap :\n📧https://sites.google.com/view/pekantlmdpcpatelkigarut/tentang
URL:https://patelkijabar.org/event/webinar-peran-atlm-bergerak-dan-bersinergi-mewujudkan-transformasi-kesehatan-pada-tatalaksana-dan-dioagnosis-penyakit-difteri/
LOCATION:Jawa Barat
CATEGORIES:Kegiatan DPC Garut,Kegiatan Ilmiah DPC,Webinar DPC,Webinar DPC Garut
END:VEVENT
BEGIN:VEVENT
DTSTART;TZID=UTC:20230415T150000
DTEND;TZID=UTC:20230415T180000
DTSTAMP:20260420T183218
CREATED:20230407T062127Z
LAST-MODIFIED:20230615T141941Z
UID:3781-1681570800-1681581600@patelkijabar.org
SUMMARY:Gebyar Pekan TLM DPC PATELKI Majalengka (Bakti Sosial)
DESCRIPTION:[Gebyar Pekan TLM]\nDalam rangka “Pekan TLM ke 37”\nDPC PATELKI Majalengka\nMengadakan  kegiatan : \n● Menggapai Berkah di Bulan Ramadhan dengan cara berbagi.\nBakti Sosial kepanti Asuhan\, pembagian takjil on the road\nKegiatan tersebut yang akan dilaksanakan : \nMenggapai Berkah Ramadhan Dengan berbagi\n🗓️ Sabtu\, 15 April 2023\n📍 Panti Asuhan…….\nJl…\, Kab. Majalengka \nUntuk Itu Kami Mengajak Rekan-rekan PATELKI dan Masyarakat Umum untuk ikut serta dalam acara tersebut dengan menyisihkan sebagian hartanya di Bulan yang Suci Ini.\nDonasi dapat dilakukan dengan mentransfer ke: \n💳 Rek. Mandiri 1340017517516 a.n. DPC PATELKI MAJALENGKA\nBatas Akhir donasi: 13 April 2023 \nContact Person\n📞 Erviena N/082319906147\n📞Yogie Jatiprawira/\n081532135336 \nDemikian kami sampaikan\, semoga rezeki yang rekan-rekan titipkan kepada kami tergantikan dengan rezeki yang lebih berkah dan berlimpah.\nAamiin3x Ya Rabbal Alamin. \nMarhaban Ya Ramadhan 1444 H \nRegards\n*DPC PATELKI MAJALENGKA\nSALAM PATELKI
URL:https://patelkijabar.org/event/gebyar-pekan-tlm-dpc-patelki-majalengka-bakti-sosial/
LOCATION:Jawa Barat
CATEGORIES:Event,Kegiatan DPC,Kegiatan DPC Majalengka,Kegiatan Non Ilmiah DPC,Kegiatan Non Ilmiah DPC PATELKI Majalengka
END:VEVENT
BEGIN:VEVENT
DTSTART;TZID=UTC:20230414T150000
DTEND;TZID=UTC:20230414T180000
DTSTAMP:20260420T183218
CREATED:20230407T041209Z
LAST-MODIFIED:20230615T142045Z
UID:3775-1681484400-1681495200@patelkijabar.org
SUMMARY:Bakti Sosial Pekan TLM 37 DPC PATELKI Kota Bogor
DESCRIPTION:Salam PATELKI !\nMenyambut Bulan Suci Ramadhan & Hari Jadi PATELKI ke-37 tahun\, ayo semarakkan Pekan TLM dengan berdonasi untuk Panti Yatim Indonesia – Asrama Yatim Cab. Tanah Sereal. Bagi yang sudah berdonasi mohon isi data di bawah ini ya… PATELKI\, Satu Kata Sejuta Aksi ! \nDonasi minimal 50 ribu\nNo. Rek. 1320018531815\nBank Mandiri a/n DPC PATELKI Kota Bogor\nBatas akhir donasi : 10 April 2023 pkl 20.00 WIB \nSantunan akan dilakukan pada :\n🗓️ Jumat\, 14 April 2023\n🕕 Pukul 15.00 WIB\n🏡 Panti Yatim Indonesia – Asrama Yatim Cab. Tanah Sereal\n📍https://maps.app.goo.gl/ejrGFgYoA2kL8DGq6 \nNote: Donatur dipersilahkan untuk ikut hadir\, jika tdk bisa tdk apa-apa. \n📄 Sertifikat 1 SKP untuk semua donatur
URL:https://patelkijabar.org/event/bakti-sosial-pekan-tlm-37-dpc-patelki-kota-bogor/
LOCATION:Panti Yatim Indonesia\, Jl. Heulang No.9\, RT.04/RW.05\, Tanah Sareal\, Kec. Tanah Sereal\, Kota Bogor\, Jawa Barat 16161\, Bogor\, jawa barat\, 16161\, Indonesia
CATEGORIES:Event,Kegiatan DPC,Kegiatan DPC Kota Bogor,Kegiatan Non Ilmiah DPC,Kegiatan Non Ilmiah DPC Kota Bogor
END:VEVENT
BEGIN:VEVENT
DTSTART;TZID=UTC:20230413T033000
DTEND;TZID=UTC:20230413T180000
DTSTAMP:20260420T183218
CREATED:20230415T033028Z
LAST-MODIFIED:20230615T142152Z
UID:3791-1681356600-1681408800@patelkijabar.org
SUMMARY:Bakti Sosial Pekan TLM 37 DPC PATEKI Kota Tasikmalaya
DESCRIPTION:BAKSOS 1 SKP PATELKI \nHallo para ATLM 🤗 \nDalam rangka memeriahkan PEKAN TLM \,\, DPC PATELKI Kota Tasikmalaya present : \nBAKSOS (BAKTI SOSIAL) \n💰 minimal donasi 50.001\n(tambahkan kode unik 1 di belakang nominal)\n💳 BNI 1986040262\na.n. DPC Patelki Kota Tasikmalaya\n🏵️ 1 SKP\n*Khusus wilayah Jawa Barat \n🔖 Kegiatan :\n– Santunan\n– Pemeriksaan Laboratorium Gratis (Golongan Darah\, Gula Darah\, Asam Urat\, Cholesterol) \n🗓️ Kamis\, 13 April 2023\n⏰ 15.30 s/d selesai\n🏢 Panti Asuhan Syubbaanul Wathon Kota Tasikmalaya \n  \nLet’s Join Us !! See You .. \nSalam Patelki\nPATELKI ASIK\, YAA TI TASIK 🥳
URL:https://patelkijabar.org/event/bakti-sosial-pekan-tlm-37-dpc-pateki-kota-tasikmalaya/
LOCATION:Panti Asuhan Syubbaanul Wathon Kota Tasikmalaya\, Jl. Sutisna Senjaya No.147B\, Cikalang\, Kec. Tawang\, Kab. Tasikmalaya\, Jawa Barat 46114\, Tasikmalaya\, jawa barat\, 46114\, Indonesia
CATEGORIES:Event,Kegiatan DPC Kota Tasikmalaya,Kegiatan Non Ilmiah DPC
END:VEVENT
BEGIN:VEVENT
DTSTART;TZID=UTC:20230411T150000
DTEND;TZID=UTC:20230411T180000
DTSTAMP:20260420T183218
CREATED:20230407T025401Z
LAST-MODIFIED:20230615T142230Z
UID:3763-1681225200-1681236000@patelkijabar.org
SUMMARY:Bakti Sosial Pekan TLM DPC PATELKI Bogor
DESCRIPTION:Hallo teman-teman PATELKI se-Indonesia 👋\nBagaimana kabarnya hari ini? Semoga dalam keadaan sehat ya\, apalagi di bulan suci ini bulan Ramadhan\, tetap jaga kesehatan ya..\nOya\, dalam rangka Pekan TLM 2023\, kami dari PATELKI DPC BOGOR akan mengadakan bakti sosial yang bertema “BERBAGI BERKAH DAN REZEKI DI BULAN RAMADHAN DENGAN KEBERSAMAAN”\, pada kegiatan ini akan diadakan Bakti Sosial “Berbuka Puasa Bersama Anak-Anak Yatim dan Piatu” sebagai bentuk pengabdian dan kepedulian PATELKI kepada masyarakat. \nPlease\, Save The Date ya guys!😊 \nBakti Sosial “Berbuka Puasa Bersama Anak-Anak Yatim dan Piatu”\nSelasa\, 11 April 2023\n16.30 WIB – Selesai\nDi Lorin Hotel Sentul\nLokasi : https://goo.gl/maps/JGqmwD1P3YEq8Gge8 \nJust info :\nKegiatan ini akan mendapatkan sertifikat 1 SKP PALTEKI ( No. …………. ) \nPembayaran melalui No. Rekening\nBank BNI a/n PATELKI DPC BOGOR\n1435518715 \nInformasi lebih lanjut bisa menghubungi contac dibawah ini :\nM. Alwi : 0821-2598-7656\nRony G : 0813- 8895-7282 \nDon’t forget to join and participate \nSALAM PATELKI
URL:https://patelkijabar.org/event/bakti-sosial-pekan-tlm-dpc-patelki-bogor/
LOCATION:Lorin Hotel Sentul\, Kawasan Sirkuit Sentul Internasional Exit Toll Sirkuit Sentul\, Jl. Tol Jagorawi No.Km.32\, Sentul\, Kec. Babakan Madang\, Kabupaten Bogor\, Jawa Barat 16810\, Bogor\, Jawa Barat\, 16810\, Indonesia
CATEGORIES:Event,Kegiatan DPC,Kegiatan DPC Bogor,Kegiatan Non Ilmiah DPC,kegiatan non ilmiah dpc bogor
END:VEVENT
BEGIN:VEVENT
DTSTART;TZID=UTC:20230409T150000
DTEND;TZID=UTC:20230409T180000
DTSTAMP:20260420T183218
CREATED:20230407T031753Z
LAST-MODIFIED:20230615T142321Z
UID:3770-1681052400-1681063200@patelkijabar.org
SUMMARY:Bakti Sosial Pekan TLM DPC PATELKI Bandung
DESCRIPTION:[Baksos Ramadhan]\nDalam rangka “Pekan TLM 2023”\nDPC PATELKI BANDUNG\nMengadakan Bakti Sosial Ramadhan\, yang akan dilaksanakan: \n🗓️ Minggu\, 09 April 2023\n📍 Panti Asuhan Anak Yatim & Dhuafa Assalam\nJl. Sangkali\, Majalaya\, Kab. Bandung \nUntuk Itu Kami Mengajak Rekan-rekan PATELKI dan Masyarakat Umum untuk ikut serta dalam acara tersebut dengan menyisihkan sebagian hartanya di Bulan yang Suci Ini.\nDonasi dapat dilakukan dengan mentransfer ke: \n💳 Rek. Mandiri 1320018531922 a.n. DPC PATELKI BANDUNG\nBatas Akhir donasi: 7 April 2023 \n📌Khusus anggota PATELKI wilayah DPW Jawa Barat dengan minimal donasi Rp. 50.000.00\,- akan mendapatkan 1 SKP. \n” Turunkanlah (datangkanlah) rezekimu (dari Allah) dengan mengeluarkan sedekah”. (HR Al-Baihaqi) \n——————————————\n[DPC PATELKI BANDUNG]\n[Humas & Antar Lembaga]
URL:https://patelkijabar.org/event/bakti-sosial-pekan-tlm-dpc-patelki-bandung/
LOCATION:Panti Asuhan Anak Yatim & Dhuafa Assalam\, Panti Asuhan Anak Yatim & Dhuafa Assalam Jl. Sangkali\, Majalaya\, Kab. Bandung\, Kabupaten Bandung\, jawa barat\, Indonesia
CATEGORIES:Event,Kegiatan DPC,Kegiatan DPC Bandung,Kegiatan Non Ilmiah DPC,Kegiatan Non Ilmiah DPC PATELKI Bandung
END:VEVENT
BEGIN:VEVENT
DTSTART;TZID=UTC:20230409T150000
DTEND;TZID=UTC:20230409T180000
DTSTAMP:20260420T183218
CREATED:20230402T144749Z
LAST-MODIFIED:20230615T142350Z
UID:3575-1681052400-1681063200@patelkijabar.org
SUMMARY:PATELKI Charity II DPC PATELKI Sukabumi
DESCRIPTION:Kegiatan : \n\nPembagian Ta’jil\nPemeriksaan Gula Darah\nPemeriksaan Golongan Darah\nSantunan Anak Yatim Piatu\n\nCara Berdonasi : \nTransfer Ke NOmer Rekening BJB (0003202313100) atas nama Ibu Ratna Komala M \nContact Person : \nNovelia Ghinasty : 085668190724 \n 
URL:https://patelkijabar.org/event/patelki-charity-ii-dpc-patelki-sukabumi/
LOCATION:Jawa Barat
CATEGORIES:Event,Kegiatan DPC,Kegiatan DPC Sukabumi,Kegiatan Non Ilmiah DPC,Kegiatan Non Ilmiah DPC PATELKI Sukabumi
END:VEVENT
BEGIN:VEVENT
DTSTART;TZID=UTC:20230406T080000
DTEND;TZID=UTC:20230510T170000
DTSTAMP:20260420T183218
CREATED:20230323T145921Z
LAST-MODIFIED:20230615T142430Z
UID:3074-1680768000-1683738000@patelkijabar.org
SUMMARY:Photo Contest Pekan TLM ke-37 2023
DESCRIPTION:Bergerak Bersinergi Mewujudkan Transformasi Kesehatan\n🎙️ Photo Contest ATLM\nOpen Registration :\n06 April – 10 April 2023\nFollow Ig @patelkidpcgarut \nCP. Muhadiyah Salmah/081322047250
URL:https://patelkijabar.org/event/photo-contest-pekan-tlm-ke-37-2023/
LOCATION:Jawa Barat
CATEGORIES:Kegiatan DPC,Kegiatan DPC Garut,Kegiatan Non Ilmiah DPC
END:VEVENT
BEGIN:VEVENT
DTSTART;TZID=UTC:20230331T080000
DTEND;TZID=UTC:20230331T170000
DTSTAMP:20260420T183218
CREATED:20230331T030613Z
LAST-MODIFIED:20230713T090703Z
UID:3317-1680249600-1680282000@patelkijabar.org
SUMMARY:Webinar Kesiapan ATLM Menghadapi Perkembangan Tekonoli Laboratorium dan Perkembangan SDM Berbasis Kompetensi
DESCRIPTION:Speaker : \n\nlily Solihah\, S.Pd.\, S.Si.\, M.Si (Penguatan Kompetensi ATLM \, Melalui Diklat berbasisTeknologi Pembelajaran Jarak Jauh)\nM. Ali Yunasri\, S.ST.\, M.Kes ( Uji Kompetensi Untuk Jabatan Fungsional)\n\nLink Sertifikat : 
URL:https://patelkijabar.org/event/webinar-kesiapan-atlm-menghadapi-perkembangan-tekonoli-laboratorium-dan-perkembangan-sdm-berbasis-kompetensi/
LOCATION:Jawa Barat
CATEGORIES:Kegiatan DPC,Kegiatan DPC Kota Tasikmalaya,Kegiatan Ilmiah DPC,Webinar,Webinar DPC,Webinar DPC Kota Tasikmalaya
END:VEVENT
BEGIN:VEVENT
DTSTART;TZID=Asia/Jakarta:20230323T080000
DTEND;TZID=Asia/Jakarta:20230406T170000
DTSTAMP:20260420T183218
CREATED:20230323T145348Z
LAST-MODIFIED:20230713T094606Z
UID:3068-1679558400-1680800400@patelkijabar.org
SUMMARY:Baksos Pekan TLM ke-37 2023
DESCRIPTION:Bergerak Bersinergi Mewujudkan Transformasi Kesehatan \n🎙️ Baksos Pekan TLM\nOpen Registration :\n23 maret – 06 April 2023\n💳 1320021901351\nMandiri a/n DPC Patelki Garut\nCP. Sri Cahyani/ \nLink Sertifikat : \n 
URL:https://patelkijabar.org/event/baksos-pekan-tlm-ke-37-2023/
LOCATION:Jawa Barat
CATEGORIES:Event,Kegiatan DPC,Kegiatan DPC Garut,Kegiatan Non Ilmiah DPC,kegiatan non ilmiah dpc garut
END:VEVENT
BEGIN:VEVENT
DTSTART;TZID=Asia/Bangkok:20230305T073000
DTEND;TZID=Asia/Bangkok:20230305T153000
DTSTAMP:20260420T183218
CREATED:20230221T034541Z
LAST-MODIFIED:20230713T092539Z
UID:1082-1678001400-1678030200@patelkijabar.org
SUMMARY:Seminar Peran ATLM dalam Tatalaksana Kejadian Luar Biasa (KLB) Campak\, Acute Flaccid Paralysis (AFP) dan Difteri
DESCRIPTION:\DPC Patelki Bandung Barat mengadakan seminar ilmiah offline yang berjudul ”Peran ATLM dalam Tatalaksana Kejadian Luar Biasa (KLB) Campak\, Acute Flaccid Paralysis (AFP) dan Difteri”. Seminar ini ditujukan untuk seluruh ATLM baik yang bekerja di Rumah Sakit baik swasta maupun negri\, Laboratorium Kesehatan maupun Puskesmas agar proses pengambilan dan jenis sampel untuk kasus KLB ini tepat dan tidak terjadi kesalahan. Ada penjelasan alur rujukannya juga loh. Oleh karena itu\, kuy daftar sekarang juga. \n🪙 3 SKP PATELKI (Termasuk coffee break\, makan siang dan seminar kit)\nAkreditasi ilmiah PATELKI : 006/SKP/PATELKI-32/02/2023 \nWaktu dan Tempat Pelaksanaan \n🗓️ Minggu\, 5 Maret 2023\n⏰ 07.30 – 15.45\n📍Fave Hotel Hyper Square\n(Jl. Pasir Kaliki No. 25-27\, Bandung) \n  \nCP : Yusifa (082126064726) \nLink Materi : – \nLink Sertifikat :
URL:https://patelkijabar.org/event/seminar-peran-atlm-dalam-tatalaksana-kejadian-luar-biasa-klb-campak-acute-flaccid-paralysis-afp-dan-difteri/
LOCATION:Fave Hotel Hyper Square\, Paskal Hyper Square\, Jl. Pasir Kaliki No.25 - 27\, Ciroyom\, Kec. Andir\, Kota Bandung\, Jawa Barat 40181\, Bandung\, jawa barat\, 40181\, Indonesia
CATEGORIES:Kegiatan DPC Bandung Barat,Kegiatan Ilmiah DPC,Seminar,Seminar DPC,Seminar DPC Bandung Barat
END:VEVENT
BEGIN:VEVENT
DTSTART;TZID=Asia/Jakarta:20230304T080000
DTEND;TZID=Asia/Jakarta:20230304T170000
DTSTAMP:20260420T183218
CREATED:20230312T225046Z
LAST-MODIFIED:20230713T100242Z
UID:2816-1677916800-1677949200@patelkijabar.org
SUMMARY:Webinar DPC PATELKI Ciamis" Optimalisasi Peran ATLM Dalam Pemeriksaan Immunoserologi TBC "
DESCRIPTION:Hollaaa Teman Teman ATLM Se-Indonesia 🖐🏻🖐🏻\nKami PATELKI DPC Kab. Ciamis\, Proudly Present : *WEBINAR* *KESEHATAN* *NASIONAL*\nDengan Judul ” Optimalisasi Peran ATLM Dalam Pemeriksaan Immunoserologi TBC ”\nJangan Lupaa Save the Date yaa temen temeeen 🤍\n🧾 Sabtu\, 04 Maret 2023 \nCP : Ifty Wp 081392855122 / Selvira 089633839803 \nLink Materi : – \nLink Sertifikat :  \n 
URL:https://patelkijabar.org/event/webinar-dpc-patelki-ciamis-optimalisasi-peran-atlm-dalam-pemeriksaan-immunoserologi-tbc/
LOCATION:Jawa Barat
CATEGORIES:Event,Kegiatan DPC Ciamis,Kegiatan Ilmiah DPC,Webinar,Webinar DPC,Webinar DPC Ciamis
END:VEVENT
BEGIN:VEVENT
DTSTART;TZID=Asia/Bangkok:20230228T080000
DTEND;TZID=Asia/Bangkok:20230228T130000
DTSTAMP:20260420T183218
CREATED:20230221T033727Z
LAST-MODIFIED:20230713T092734Z
UID:1079-1677571200-1677589200@patelkijabar.org
SUMMARY:Webinar Potensi ATLM Dalam Era New Normal Pasca Pandemi Covid- 19
DESCRIPTION:Waktu Pelaksanaan : \n🗓️ Selasa\, 28 Febuari 2023\n⏱️ 08.00 WIB s.d selesai \nInformasi lebih lanjut hubungi via WA: \n1. +62 896-4776-4003 (qois)\n2. +62 813-2014-9300 (nita) \nLink Materi  : https://drive.google.com/drive/folders/1-LaKlIR_c0he2DeC1wauBO621yuenEkS?usp=share_link \nLink sertifikat : https://drive.google.com/drive/folders/18QljUGcCaCyZpHqs_8tTVE9gl7n4sPnW
URL:https://patelkijabar.org/event/seminar-potensi-atlm-dalam-era-new-normal-pasca-pandemi-covid-19/
LOCATION:Jawa Barat
CATEGORIES:Kegiatan DPC Cirebon,Kegiatan Ilmiah DPC,Webinar DPC,Webinar DPC Cirebon
END:VEVENT
BEGIN:VEVENT
DTSTART;TZID=UTC:20230226T073000
DTEND;TZID=UTC:20230226T150000
DTSTAMP:20260420T183218
CREATED:20230221T024507Z
LAST-MODIFIED:20230713T093442Z
UID:1074-1677396600-1677423600@patelkijabar.org
SUMMARY:Seminar Ilmiah Aspek Laboratorium Pemeriksaan Virus Hepatitis B
DESCRIPTION:📌 Tanggal dan Waktu Pelaksanaan\n🗓️ Minggu\, 26 Februari 2023\n⏰ 07.30 – Selesai\n🏨 Hotel Merapi Merbabu \n📞 Narahubung :\n0878-9718-7100 ( Sulissetiyani )\n0852-1751-0016 ( Nurita Safriyani ) \nLink Sertifikat : \nLink Materi :
URL:https://patelkijabar.org/event/seminar-ilmiah-aspek-laboratorium-pemeriksaan-virus-hepatitis-b/
LOCATION:hotel Merapi Merbabu Bekasi\, Jl. Cut Mutia No.128\, RT.001/RW.002\, Sepanjang Jaya\, Kec. Rawalumbu\, Kota Bks\, Jawa Barat 17114\, Bekasi\, jawa barat\, 17114\, Indonesia
CATEGORIES:Kegiatan DPC Kota Bekasi,Kegiatan Ilmiah DPC,Seminar DPC,Seminar DPC Kota Bekasi
END:VEVENT
BEGIN:VEVENT
DTSTART;TZID=UTC:20230219T073000
DTEND;TZID=UTC:20230219T143000
DTSTAMP:20260420T183218
CREATED:20230312T230351Z
LAST-MODIFIED:20230713T093738Z
UID:2823-1676791800-1676817000@patelkijabar.org
SUMMARY:Seminar Ilmiah  UPDATE PEMERIKSAAN LABORATORIUM UNTUK DETEKSI KANKER SERVIKS
DESCRIPTION:Akreditasi Ilmiah PATELKI: 005/SKP/PATELKI-32/01/2023 \n🗓 Minggu\, 19 Februari 2023\n🕰 07.30 WIB – 15.00 WIB\n🏩 Main Hall Biofarma\nJl. Pasteur No. 28 Kota Bandung\n💫 \nInformasi Selanjutnya Bisa Menghubungi Contact Person Kami :\n+62 812-2247-014 (ANI NURYANI)\n+62 812-2358-2215 (NURUL ASYIYAH)\n+62 859-4352-0063 (RIZKY FAUZI) \nLink Materi : \nLink Sertifikat :
URL:https://patelkijabar.org/event/2823/
LOCATION:Main Hall Biofarma Jl. Pasteur No. 28 Kota Bandung\, Jl. Pasteur No. 28 Kota Bandung\, Bandung\, jawa barat\, Indonesia
CATEGORIES:Event,Kegiatan DPC,Kegiatan DPC Kota Bandung,Kegiatan Ilmiah DPC,Seminar DPC Kota Bandung
END:VEVENT
BEGIN:VEVENT
DTSTART;TZID=UTC:20221231T080000
DTEND;TZID=UTC:20221231T130000
DTSTAMP:20260420T183218
CREATED:20230331T030129Z
LAST-MODIFIED:20230713T093828Z
UID:3315-1672473600-1672491600@patelkijabar.org
SUMMARY:Webinar Sertifikasi Kompetensi Plebotomi Bagi ATLM\, Apa Pentingnya?
DESCRIPTION:Speaker : \n1.Dimas Prapanca\, S. Tr.Kes \n2.Meri\, SKM.\,M.Imun \nLink Sertifikat :
URL:https://patelkijabar.org/event/webinar-sertifikasi-kompetensi-plebotomi-bagi-atlm-apa-pentingnya/
LOCATION:Jawa Barat
CATEGORIES:Kegiatan DPC,Kegiatan DPC Kota Tasikmalaya,Kegiatan Ilmiah DPC,Webinar DPC,Webinar DPC Kota Tasikmalaya
END:VEVENT
BEGIN:VEVENT
DTSTART;TZID=UTC:20221230T130000
DTEND;TZID=UTC:20221230T170000
DTSTAMP:20260420T183218
CREATED:20230331T024608Z
LAST-MODIFIED:20230713T093915Z
UID:3311-1672405200-1672419600@patelkijabar.org
SUMMARY:Webinar Komunikasi Efektif Dalam Bidang Pelayanann Kesehatan Laboratorium
DESCRIPTION:  \nSpeaker : \n\nJaka Sundara \, A.Md. AK  ( Communication Skill dalam Praktek Pelayanan LaboratoriumMenuju Service Excellent )\nAnnisa Nur Hasananh\, S.Tr.Kes\, M.Kes ( Be A Good Speaker For A Good Relation)\n\nHost : Dede erni Irmayani\, A.Md.AK \nModerator : Randi Septian\, A.Md.AK \nLink Sertifikat :
URL:https://patelkijabar.org/event/webinar-komunikasi-efektif-dalam-bidang-pelayanann-kesehatan-laboratorium/
LOCATION:Jawa Barat
CATEGORIES:Kegiatan DPC,Kegiatan DPC Kota Tasikmalaya,Kegiatan Ilmiah DPC,Webinar,Webinar DPC,Webinar DPC Kota Tasikmalaya
END:VEVENT
END:VCALENDAR