BEGIN:VCALENDAR
VERSION:2.0
PRODID:-//patelkijabar.org - ECPv6.15.17.1//NONSGML v1.0//EN
CALSCALE:GREGORIAN
METHOD:PUBLISH
X-ORIGINAL-URL:https://patelkijabar.org
X-WR-CALDESC:Events for patelkijabar.org
REFRESH-INTERVAL;VALUE=DURATION:PT1H
X-Robots-Tag:noindex
X-PUBLISHED-TTL:PT1H
BEGIN:VTIMEZONE
TZID:UTC
BEGIN:STANDARD
TZOFFSETFROM:+0000
TZOFFSETTO:+0000
TZNAME:UTC
DTSTART:20230101T000000
END:STANDARD
END:VTIMEZONE
BEGIN:VEVENT
DTSTART;TZID=UTC:20240630T080000
DTEND;TZID=UTC:20240630T170000
DTSTAMP:20260423T141623
CREATED:20240527T132137Z
LAST-MODIFIED:20240527T133035Z
UID:6179-1719734400-1719766800@patelkijabar.org
SUMMARY:RAKERWIL XVI
DESCRIPTION:Tema Kegiatan : Transformation\, Integrity\, Intelectual and Responsibility \nHari & Tanggal Pelaksanaan : Minggu 30 Juni 2024 \nWaktu Pelaksanaan : 08.00 WIB – Selesai \nTempat Pelaksanaan : Harris Hotel Ciumbuleuit ( Jl. Ciumbuleuit  No 55-58 Kota Bandung \nContact Person : Barrianti\, S.ST.\, MM ( 082315285410 ) Klik Nomernya \nLink Pendaftaran : https://forms.gle/NojsLbarHbRFSQX38 \n  \n 
URL:https://patelkijabar.org/event/rakerwil-xvi/
LOCATION:Harris  Hotel & Conventions\, Jl. Ciumbuleuit 50 – 58  Hegarmanah  Kota  Bandung Jawa Barat 40141  No. Telepon : 022 – 82068222\, Bandung\, jawa barat\, 40141\, Indonesia
CATEGORIES:Event,Kegiatan DPW,Kegiatan Non Ilmiah DPW,Rakerwil DPW
END:VEVENT
END:VCALENDAR