BEGIN:VCALENDAR
VERSION:2.0
PRODID:-//patelkijabar.org - ECPv6.15.17.1//NONSGML v1.0//EN
CALSCALE:GREGORIAN
METHOD:PUBLISH
X-ORIGINAL-URL:https://patelkijabar.org
X-WR-CALDESC:Events for patelkijabar.org
REFRESH-INTERVAL;VALUE=DURATION:PT1H
X-Robots-Tag:noindex
X-PUBLISHED-TTL:PT1H
BEGIN:VTIMEZONE
TZID:UTC
BEGIN:STANDARD
TZOFFSETFROM:+0000
TZOFFSETTO:+0000
TZNAME:UTC
DTSTART:20220101T000000
END:STANDARD
END:VTIMEZONE
BEGIN:VEVENT
DTSTART;TZID=UTC:20231008T073000
DTEND;TZID=UTC:20231008T160000
DTSTAMP:20260422T133334
CREATED:20230930T030406Z
LAST-MODIFIED:20230930T030406Z
UID:5099-1696750200-1696780800@patelkijabar.org
SUMMARY:Seminar Ilmiah yang berTema : Deteksi Dini Diagnosis Penyakit Kanker Berbasis Patologi Anatomi\, Klinik dan Molekuler\, serta Peran ATLM dalam KLB Polio .
DESCRIPTION:Hallo Sobat ATLM 👋\n..\nSalam PATELKI 💪\n…\nDalam rangka Pelantikan Pengurus DPC PATELKI Kuningan VI\nKami Mengadakan\nSeminar Ilmiah yang berTema : Deteksi Dini Diagnosis Penyakit Kanker Berbasis Patologi Anatomi\, Klinik dan Molekuler\, serta Peran ATLM dalam KLB Polio .\n..\n🔖 Hari & Tanggal Pelaksanaan : Minggu\, 08 Oktober 2023\nPukul 07.30-16.00 WIB\n..\n📍Bertempat di :\nHorison Tirta Sanita Hotel Kuningan\n.. \nHTM : Rp. 250.000\nTransfer ke BNI\nNo. Rekening : 1300035435\na.n PATELKI DPC KUNINGAN \n👉Link Pendaftaran :\nhttps://bit.ly/seminardpckuningan2023 \n..\nDapatkan Hadiah Menarik & 3 SKP PATELKI 🤩\n..\nUntuk Informasi Selanjutnya :\n☎ IKA KARLINA ( 082218360015 )\n☎️ MISGIANTI ( 087847456686 ) \n..\nSo\, Tunggu Apalagi Daftarkan Dari Sekarang & Sampai Bertemu Diacara Nanti 👋
URL:https://patelkijabar.org/event/seminar-ilmiah-yang-bertema-deteksi-dini-diagnosis-penyakit-kanker-berbasis-patologi-anatomi-klinik-dan-molekuler-serta-peran-atlm-dalam-klb-polio/
LOCATION:Horison Tirta Sanita Hotel Kuningan\, JL Raya Panawuan- Sangkanhurip No. 98\, Panawuan\, Kec. Cigandamekar\, Kabupaten Kuningan\, Jawa Barat 45556\, kuningan\, Jawa Barat\, 45556\, Indonesia
CATEGORIES:Event,Kegiatan DPC,Kegiatan DPC Kuningan,Kegiatan Ilmiah DPC,Seminar DPC,Seminar DPC Kuningan
END:VEVENT
BEGIN:VEVENT
DTSTART;TZID=UTC:20231015T080000
DTEND;TZID=UTC:20231015T130000
DTSTAMP:20260422T133334
CREATED:20230930T025626Z
LAST-MODIFIED:20230930T025626Z
UID:5095-1697356800-1697374800@patelkijabar.org
SUMMARY:Webinar Ilmiah Pemeriksaan SHK [Skrining Hipotiroid Konginetal]
DESCRIPTION:📢 WEBINAR 📢\nDPC PATELKI BANDUNG\nSalam PATELKI!!!💉 \n✨webinar Ilmiah Pemeriksaan SHK [Skrining Hipotiroid Konginetal]✨ \n📃 E-Sertifikat Peserta 2 SKP PATELKI nomor: 064/SKP/PATELKI-32/09/20\n🎁 Doorprize bagi yang terpilih \nSAVE THE DATE !\n🗓 : Minggu\, 15 Oktober 2023\n🕘 : 08.00 WIB – selesai\n💻 : Zoom Meeting\nHTM: 50.000 \nPENDAFTARAN\nTransfer Biaya Pendaftaran Lalu Konfirmasi Pembayaran Melalui Link Pendaftaran DI Bawah\n⬇️⬇️⬇️⬇️⬇️⬇️⬇️⬇️ \nRek. Mandiri\n1320018531922\na.n . DPC PATELKI BANDUNG \n📌 Link Pendaftaran:\nPendaftaran akan ditutup pada Sabtu\, 14 Oktober 2023 \nNara Hubung:\nNina – 087831079343\nNurjanah- 085643842462\nig: @dpcpatelkibandung
URL:https://patelkijabar.org/event/webinar-ilmiah-pemeriksaan-shk-skrining-hipotiroid-konginetal/
LOCATION:Jawa Barat
CATEGORIES:Event,Kegiatan DPC,Kegiatan DPC Bandung,Kegiatan Ilmiah DPC,Webinar DPC,Webinar DPC Bandung
END:VEVENT
END:VCALENDAR