BEGIN:VCALENDAR
VERSION:2.0
PRODID:-//patelkijabar.org - ECPv6.15.17.1//NONSGML v1.0//EN
CALSCALE:GREGORIAN
METHOD:PUBLISH
X-ORIGINAL-URL:https://patelkijabar.org
X-WR-CALDESC:Events for patelkijabar.org
REFRESH-INTERVAL;VALUE=DURATION:PT1H
X-Robots-Tag:noindex
X-PUBLISHED-TTL:PT1H
BEGIN:VTIMEZONE
TZID:UTC
BEGIN:STANDARD
TZOFFSETFROM:+0000
TZOFFSETTO:+0000
TZNAME:UTC
DTSTART:20230101T000000
END:STANDARD
END:VTIMEZONE
BEGIN:VEVENT
DTSTART;TZID=UTC:20240327T080000
DTEND;TZID=UTC:20240406T170000
DTSTAMP:20260422T041052
CREATED:20240328T051106Z
LAST-MODIFIED:20240328T051106Z
UID:5695-1711526400-1712422800@patelkijabar.org
SUMMARY:Tebar Hikmah Al Quran Bersama DPW PATELKI Jawa Barat
DESCRIPTION:*TEBAR HIKMAH AL- QUR’AN* \nAssalamualaikum warahmatullah wabarakatuh \n*”Sesungguhnya diantara amal soleh yang mendatangkan pahala setelah orang mengamalkannya meninggal dunia yaitu Mushaf (Al-Qur’an) yang diwariskannya”-Ibnu Majah* \nDalam rangka memperingati Pekan TLM ke-38\, mari kita *Tebar Hikmah Al-Qur’an di bulan Ramadhan* bersama DPW PATELKI Jawa Barat dengan menitipkan sebagian rezekinya untuk mewujudkan Mushaf (Al-Qur’an) ke rekening Bank BNI *1300159803* atas nama DPW PATELKI Jabar. \nKonfirmasi donasi silahkan isi link berikut dengan klik 👇\n** \nMushaf (Al-Qur’an) akan disalurkan kepada Pesantren\, Santri Yatim Dhuafa\, Penghapal Al-Qur’an\, Mesjid dan Mushola\, Guru Ngaji dan Masyarakat yang membutuhkan. \nTerimakasih atas dukungan dan partisipasinya. Semoga Allah SWT menggantikan rezeki yang diberikan dengan rezeki yang semakin berkah berlimpah. Aamiin3x Ya Rabbal Alamin 🤲
URL:https://patelkijabar.org/event/tebar-hikmah-al-quran-bersama-dpw-patelki-jawa-barat/
LOCATION:Jawa Barat
CATEGORIES:Event,Kegiatan DPW,Kegiatan DPW PATELKI Jawa Barat,Kegiatan Non Ilmiah DPW
END:VEVENT
BEGIN:VEVENT
DTSTART;TZID=UTC:20240428T080000
DTEND;TZID=UTC:20240428T170000
DTSTAMP:20260422T041052
CREATED:20240407T122146Z
LAST-MODIFIED:20240407T133726Z
UID:5836-1714291200-1714323600@patelkijabar.org
SUMMARY:Turnamen Badminton ATLM
DESCRIPTION:Sesuai dengan Visi PATELKI Menjadikan organisasi profesi yang mandiri\, profesional\, peduli dan mampu memberi solusi serta aktif dalam peningkatan mutu pelayanan laboratorium medik bagi peningkatan kualitas kesehatan masyarakat untuk mewujudkan Visi Indonesia Sehat 2025. \nDalam rangka Pekan TLM Ke-38 yang jatuh pada 26 April 2024\, yang tahun ini mengangkat tema “Laboratorium\, Sinergi Menyehatkan Negeri\, Kemandirian Profesi”. DPW PATELKI Jawa Barat mengajak baik ATLM\, Calon ATLM\, dan seluruh lapisan masyarakat untuk memeriahkan Pekan TLM dengan lomba “Badminton ATLM” sebagai bentuk peringatan terhadap Hari Ulang Tahun Persatuan Ahli Teknologi Laboratorium Medik Indonesia yang Ke -38 \nKetentuan Lomba \n\nPeserta Merupakan ATLM\nSetiap DPC boleh mengirim lebih dari satu tim yang terdiri dari ganda putra dan ganda campuran\nBiaya pendaftaran Rp.100.000/ Tim\nBiaya pendaftaran ditransfer ke Nomor Rekening Bank BNI 1300159803 atas nama DPW PATELKI JABAR dengan kode unik 38 (misal : 100.038)\nPeserta menggunakan kostum olahraga yang sopan dan tidak minim\nPertandingan dengan sistempenghitungan poin konvensional ( pindah bola) hingga 30 poin yang terdiri dari 2 babak ( 15 poin per babak)\nJatah Shuttlecock satu pertandingan adalah 1 ( apabila lebih maka biaya shuttle cock ditanggung peserta (4 orang)\nPeserta taat pada peraturan pertandingan dan keputusan wasit\nPeserta menjunjung sportifitas dan menjaga kondusifitas pertandingan\n\nMekanisme Lomba \n\nPendaftaran dibuka mulai tanggal 7 – 20 April 2024 di patelkijabar.org atau di link berikut \nPertandingan akan berlangsung selama satu hari pada tanggal 28 April 2024\n\nTimeline Lomba \nPendaftaran Peserta \n\n07 – 20 April 2024\n\nPertandingan \n\n28 April 2024\n\nHadiah \nPiala Bergilir Untuk Juara 1 \nHadiah Total \n\nJuara 1 : e-Sertifikat + Rp 2.000.000\nJuara 2 : e-Sertifikat + Rp 1.000.000\nJuara 3 : e-Sertifikat + Rp 750.000\n\ndan E-Sertifikat untuk seluruh peserta terdaftar. \n 
URL:https://patelkijabar.org/event/turnamen-badminton-atlm/
LOCATION:Progresif Sport Center Bandung\, Jl. Soekarno Hatta No.785 A\, Babakan Penghulu\, Kec. Cinambo\, Kota Bandung\, Jawa Barat 40293\, Bandung\, Jawa Barat\, 40293\, Indonesia
CATEGORIES:Kegiatan DPW,Kegiatan DPW PATELKI Jawa Barat,Kegiatan Non Ilmiah DPW
END:VEVENT
END:VCALENDAR