BEGIN:VCALENDAR
VERSION:2.0
PRODID:-//patelkijabar.org - ECPv6.15.17.1//NONSGML v1.0//EN
CALSCALE:GREGORIAN
METHOD:PUBLISH
X-ORIGINAL-URL:https://patelkijabar.org
X-WR-CALDESC:Events for patelkijabar.org
REFRESH-INTERVAL;VALUE=DURATION:PT1H
X-Robots-Tag:noindex
X-PUBLISHED-TTL:PT1H
BEGIN:VTIMEZONE
TZID:UTC
BEGIN:STANDARD
TZOFFSETFROM:+0000
TZOFFSETTO:+0000
TZNAME:UTC
DTSTART:20230101T000000
END:STANDARD
END:VTIMEZONE
BEGIN:VEVENT
DTSTART;TZID=UTC:20240504T080000
DTEND;TZID=UTC:20240504T170000
DTSTAMP:20260422T042029
CREATED:20240404T105136Z
LAST-MODIFIED:20240418T131110Z
UID:5770-1714809600-1714842000@patelkijabar.org
SUMMARY:Lomba Cerdas Cermat ATLM
DESCRIPTION:Dalam rangka Pekan TLM Ke-38 yang jatuh pada 26 April 2024\, yang tahun ini mengangkat tema “Laboratorium\, Sinergi Menyehatkan Negeri\, Kemandirian Profesi”. DPW PATELKI Jawa Barat mengajak seluruh ATLM untuk memeriahkan Pekan TLM dengan lomba “Cerdas Cermat ATLM” sebagai bentuk peringatan terhadap Hari Ulang Tahun Persatuan Ahli Teknologi Laboratorium Medik Indonesia yang Ke -38 \n\nMateri Cerdas Cermat \nMateri yang akan diujikan pada kegiatan cerdas cermat ATLM adalah sebagai berikut : \n\nWawasan disiplin ilmu Laboratorium medis : 50%\nWawasan organisasi profesi ATLM : 30%\nWawasan Pengetahuan umum : 20%\n\n\nKetentuan Lomba \n\nPeserta berprofesi ATLM yang terdiri dari 3 orang/tim.\nSetiap Dewan pimpinan cabang (DPC) PATELKI wajib mengirimkan 1 tim sebagai perwakilan lomba cerdas cermat.\nBiaya pendaftaran Rp.100.000/ Tim\nBiaya pendaftaran ditransfer ke Nomor Rekening Bank BNI 1300159803 atas nama DPW PATELKI JABAR dengan kode unik 38 (misal : 100.038)\nMemiliki Kartu Identitas Anggota PATELKI.\nPeserta wajib mem-follow akun Instagram @patelkijabar akun Tiktok @patelkijabar\, dan subscribe YouTube PATELKI JABAR TV\n\n\n\nMekanisme \nPendaftaran dibuka mulai tanggal 04 April – 02 Mei  2024 di patelkijabar.org atau di link berikut \nKegiatan cerdas cermat PEKAN TLM ke-38 dilaksanakan secara online pada tanggal 04 Mei 2024\, dengan aturan perlombaan sebagai berikut : \n\nRename identitas zoom TIM CERDAS CERMAT dengan nama DPC PATELKI daerah masing-masing\, contoh : DPC PATELKI Kab. Garut.\nBabak pertama akan dilaksanakan melalui aplikasi quiziz atau kahoot yang diikuti oleh semua tim\, 10 tim dengan nilai tertinggi (live score) akan masuk ke babak ke-2\nBabak kedua akan dilaksanakan pertanyaan rebutan\n\n\n\n\n  \n\n 
URL:https://patelkijabar.org/event/lomba-cerdas-cermat-atlm/
LOCATION:Jawa Barat
CATEGORIES:Kegiatan DPW,Kegiatan DPW PATELKI Jawa Barat,Kegiatan Non Ilmiah DPW
END:VEVENT
END:VCALENDAR