BEGIN:VCALENDAR
VERSION:2.0
PRODID:-//patelkijabar.org - ECPv6.15.17.1//NONSGML v1.0//EN
CALSCALE:GREGORIAN
METHOD:PUBLISH
X-ORIGINAL-URL:https://patelkijabar.org
X-WR-CALDESC:Events for patelkijabar.org
REFRESH-INTERVAL;VALUE=DURATION:PT1H
X-Robots-Tag:noindex
X-PUBLISHED-TTL:PT1H
BEGIN:VTIMEZONE
TZID:UTC
BEGIN:STANDARD
TZOFFSETFROM:+0000
TZOFFSETTO:+0000
TZNAME:UTC
DTSTART:20230101T000000
END:STANDARD
END:VTIMEZONE
BEGIN:VEVENT
DTSTART;TZID=UTC:20241013T080000
DTEND;TZID=UTC:20241013T163000
DTSTAMP:20260421T204811
CREATED:20241005T230145Z
LAST-MODIFIED:20241005T230145Z
UID:6904-1728806400-1728837000@patelkijabar.org
SUMMARY:Webinar Transformasi TTLM dalam Meningkatkan Peran dan Akurasi Penanganan Potensi KLB DBD yang Disertai Indikasi Klinis Lainnya
DESCRIPTION:‼️ 🔊 *Salam Patelki* 🔊‼️ \n✭༻━━━━━❈━━━━━༺✭\n𝐖𝐄𝐁𝐈𝐍𝐀𝐑 𝐍𝐀𝐒𝐈𝐎𝐍𝐀𝐋 𝟐𝟎𝟐𝟒\n✭༻━━━━━❈━━━━━༺✭ \nDengan Tema:\n✨ Transformasi TTLM dalam meningkatkan peran dan akurasi penanganan potensi KLB DBD yang disertai indikasi klinis lainya✨ \nPemateri :\n1. dr. Endang Oktaviana W\, Sp.PK\n2. H. Dani Firmansyah\, SKM.\,M.EPid\,\n3. Rahmi Maharani. S.Si.MM\nModerator :\n1. Rika Oktaviani\, A.Md.A.K. \n🔖 BENEFITS:\n📜 E-Sertifikat SKP Kemenkes\n👤 Relasi \nSave The Date:\n📆 : Minggu\, 13 Oktober 2024\n🕢 : 08.00 – Selesai\n📍 : Zoom Meeting\, Live streaming Youtube PATELKI DPC Banjar \nHTM 💸 : Rp. 50.001\,-\nLink Registrasi :\nhttps://bit.ly/WebinarDPCPatelkiKotaBanjar \nContact Person : \nNila : 0821-1897-3538\nPipit : 0819-3314-6499\n——————————————————\n*WAJIB FOLLOW DAN SUBSCRIBE AKUN KAMI*:\n📷Instagram : @patelkikotabanjar\n🎥YouTube : dpcpatelkibanjar \nPATELKI – DPC KOTA BANJAR
URL:https://patelkijabar.org/event/webinar-transformasi-ttlm-dalam-meningkatkan-peran-dan-akurasi-penanganan-potensi-klb-dbd-yang-disertai-indikasi-klinis-lainnya/
LOCATION:Jawa Barat
CATEGORIES:Event,Kegiatan DPC,Kegiatan DPC Kota Banjar,Kegiatan Ilmiah DPC,Webinar DPC,Webinar DPC Kota Banjar
END:VEVENT
END:VCALENDAR